BEGIN:VCALENDAR
VERSION:2.0
PRODID:LFV Website-Kit
METHOD:PUBLISH
BEGIN:VEVENT
UID:lfv-8b5220dd-17e0-41e3-a74e-23f9c034cff4
LOCATION:
SUMMARY:Christkindlmarkt Obertraubling
DESCRIPTION:Termin Link: http://ff-obertraubling.feuerwehren.bayern/termine/christkindlmarkt-obertraubling-1/
URL:http://ff-obertraubling.feuerwehren.bayern/termine/christkindlmarkt-obertraubling-1/
CLASS:PRIVATE
DTSTART;TZID=Europe/Berlin:20251213T170000
DTEND;TZID=Europe/Berlin:20251213T180000
DTSTAMP:20260420T140006Z
END:VEVENT
END:VCALENDAR